BEGIN:VCALENDAR
VERSION:2.0
PRODID:Events Booking
BEGIN:VEVENT
UID:69ed716f746e1
SUMMARY:MENDI TOUR TEROR (GRAN CANARIA)
DESCRIPTION:
LOCATION:Plaza de Sintes s/n
DTSTART:20260522T180000Z
DTEND:20260522T200000Z
DTSTAMP:20260120T082827Z
ORGANIZER;CN=BBK Mendi Film Bilbao Bizkaia:MAILTO:organization@mendifilmfes
 tival.com
GEO:28.05866;-15.547469
X-APPLE-STRUCTURED-LOCATION;VALUE=URI;X-ADDRESS=Plaza de Sintes s/n;X-APPLE
 -RADIUS=72;X-TITLE=Teror Auditorio:28.05866;-15.547469
END:VEVENT
END:VCALENDAR